0.50000000
0.0
0.0
-0.50000000
2445800.25
274599.75
